BEGIN:VCALENDAR
VERSION:2.0
PRODID:-//Showing results for the housing authority charleston Search instead for the housing authority charlesotn   Housing Authority of the City of Charleston, Public Housing - ECPv6.11.2//NONSGML v1.0//EN
CALSCALE:GREGORIAN
METHOD:PUBLISH
X-WR-CALNAME:Showing results for the housing authority charleston Search instead for the housing authority charlesotn   Housing Authority of the City of Charleston, Public Housing
X-ORIGINAL-URL:http://chacity.d06.colophonhosting.com
X-WR-CALDESC:Events for Showing results for the housing authority charleston Search instead for the housing authority charlesotn   Housing Authority of the City of Charleston, Public Housing
REFRESH-INTERVAL;VALUE=DURATION:PT1H
X-Robots-Tag:noindex
X-PUBLISHED-TTL:PT1H
BEGIN:VTIMEZONE
TZID:UTC
BEGIN:STANDARD
TZOFFSETFROM:+0000
TZOFFSETTO:+0000
TZNAME:UTC
DTSTART:20120101T000000
END:STANDARD
END:VTIMEZONE
BEGIN:VEVENT
DTSTART;VALUE=DATE:20120917
DTEND;VALUE=DATE:20120918
DTSTAMP:20260419T163915
CREATED:20201128T192132Z
LAST-MODIFIED:20201128T192132Z
UID:2640-1347840000-1347926399@chacity.d06.colophonhosting.com
SUMMARY:G.O.T. Class
DESCRIPTION: G.O.T. Class is designed to assist resident with Resume Writing\, Interview Techniques and Job Search.  Classes are open to all housing residents.  Those who attend classes will receive community service hours.  \nClasses will begin September 17\, 2012\, Monday and Wednesdays 10:00-11:30 am at the Wraggborough Community Center.
URL:http://chacity.d06.colophonhosting.com/event/g-o-t-class/
CATEGORIES:AMP30 – Central
END:VEVENT
END:VCALENDAR