BEGIN:VCALENDAR
VERSION:2.0
PRODID:-//Showing results for the housing authority charleston Search instead for the housing authority charlesotn   Housing Authority of the City of Charleston, Public Housing - ECPv6.11.2//NONSGML v1.0//EN
CALSCALE:GREGORIAN
METHOD:PUBLISH
X-ORIGINAL-URL:http://chacity.d06.colophonhosting.com
X-WR-CALDESC:Events for Showing results for the housing authority charleston Search instead for the housing authority charlesotn   Housing Authority of the City of Charleston, Public Housing
REFRESH-INTERVAL;VALUE=DURATION:PT1H
X-Robots-Tag:noindex
X-PUBLISHED-TTL:PT1H
BEGIN:VTIMEZONE
TZID:UTC
BEGIN:STANDARD
TZOFFSETFROM:+0000
TZOFFSETTO:+0000
TZNAME:UTC
DTSTART:20120101T000000
END:STANDARD
END:VTIMEZONE
BEGIN:VEVENT
DTSTART;VALUE=DATE:20120627
DTEND;VALUE=DATE:20120628
DTSTAMP:20260419T212444
CREATED:20201128T192126Z
LAST-MODIFIED:20201128T192126Z
UID:2621-1340755200-1340841599@chacity.d06.colophonhosting.com
SUMMARY:This is the second test event for June
DESCRIPTION:This is the second test event for april description. This is the second test event for april description. This is the second test event for april description. This is the second test event for april description. This is the second test event for april description. This is the second test event for april description. This is the second test event for april description. This is the second test event for april description. This is the second test event for april description. This is the second test event for april description. This is the second test event for april description. This is the second test event for april description. \nThis is the second test event for april description. This is the second test event for april description. This is the second test event for april description. This is the second test event for april description. This is the second test event for april description. This is the second test event for april description. This is the second test event for april description. This is the second test event for april description.
URL:http://chacity.d06.colophonhosting.com/event/this-is-the-second-test-event-for-june/
CATEGORIES:AMP30 – Central
END:VEVENT
END:VCALENDAR